BEGIN:VCALENDAR
VERSION:2.0
PRODID:-//Tukios.com/
BEGIN:VEVENT
UID:d1c40786-f080-4cd4-8ba0-dddffb9d22a2@www.faulhaberfuneralhome.com
DTSTAMP:20260424T191656Z
DTSTART:20260501T150000Z
DTEND:20260501T160000Z
SUMMARY:Funeral Service
DESCRIPTION:
URL:https://www.faulhaberfuneralhome.com/obituaries/margaret-midge-brillo-cassidy
LOCATION: 23 Public Square  Brecksville OH 44141
GEO:41.3196076;-81.6277828
END:VEVENT
END:VCALENDAR