BEGIN:VCALENDAR
VERSION:2.0
PRODID:-//Tukios.com/
BEGIN:VEVENT
UID:db117bfc-c966-4b7e-8b8a-9fe1a62a58af@www.faulhaberfuneralhome.com
DTSTAMP:20260424T192302Z
DTSTART:20260430T190000Z
DTEND:20260430T230000Z
SUMMARY:Visitation
DESCRIPTION:
URL:https://www.faulhaberfuneralhome.com/obituaries/margaret-midge-brillo-cassidy
LOCATION:Donald A. Faulhaber Funeral Home 7915 Broadview Road  Broadview 
	Heights OH 44147
GEO:41.3505363;-81.6841209
END:VEVENT
END:VCALENDAR